BEGIN:VCALENDAR
VERSION:2.0
PRODID:-// - ECPv6.15.20//NONSGML v1.0//EN
CALSCALE:GREGORIAN
METHOD:PUBLISH
X-ORIGINAL-URL:https://keilamalevkond.ee
X-WR-CALDESC:Events for 
REFRESH-INTERVAL;VALUE=DURATION:PT1H
X-Robots-Tag:noindex
X-PUBLISHED-TTL:PT1H
BEGIN:VTIMEZONE
TZID:Europe/Tallinn
BEGIN:DAYLIGHT
TZOFFSETFROM:+0200
TZOFFSETTO:+0300
TZNAME:EEST
DTSTART:20240331T010000
END:DAYLIGHT
BEGIN:STANDARD
TZOFFSETFROM:+0300
TZOFFSETTO:+0200
TZNAME:EET
DTSTART:20241027T010000
END:STANDARD
BEGIN:DAYLIGHT
TZOFFSETFROM:+0200
TZOFFSETTO:+0300
TZNAME:EEST
DTSTART:20250330T010000
END:DAYLIGHT
BEGIN:STANDARD
TZOFFSETFROM:+0300
TZOFFSETTO:+0200
TZNAME:EET
DTSTART:20251026T010000
END:STANDARD
BEGIN:DAYLIGHT
TZOFFSETFROM:+0200
TZOFFSETTO:+0300
TZNAME:EEST
DTSTART:20260329T010000
END:DAYLIGHT
BEGIN:STANDARD
TZOFFSETFROM:+0300
TZOFFSETTO:+0200
TZNAME:EET
DTSTART:20261025T010000
END:STANDARD
END:VTIMEZONE
BEGIN:VEVENT
DTSTART;TZID=Europe/Tallinn:20250223T110000
DTEND;TZID=Europe/Tallinn:20250223T150000
DTSTAMP:20260422T191116
CREATED:20250218T212034Z
LAST-MODIFIED:20250218T212034Z
UID:1746-1740308400-1740322800@keilamalevkond.ee
SUMMARY:EV aastapäeva perepäev terviseradadel
DESCRIPTION:Keila Terviserajad kutsuvad kõiki tähistama Eesti Vabariigi aastapäeva!Tegevusi kogu perele.\nÜritus on kõigile TASUTA!\nAjakava:11:00 Perepäeva avamine\n11:00 Oma tehnikat tutvustavad Politsei\, Päästeamet ja Keila Terviserajad\n11:00-15:00 Kõikidele soovijatele suusakoolitus\n11:00 Meistrimäe kohvikus avatud ka väliterrass\n\nOotame Sind üheskoos liikuma ja pidupäeva tähistama. Võta pere ja sõbrad kaasa ning teeme sellest meeldejääva päeva!
URL:https://keilamalevkond.ee/event/ev-aastapaeva-perepaev-terviseradadel/
END:VEVENT
END:VCALENDAR