BEGIN:VCALENDAR
VERSION:2.0
PRODID:-// - ECPv6.15.20//NONSGML v1.0//EN
CALSCALE:GREGORIAN
METHOD:PUBLISH
X-ORIGINAL-URL:https://keilamalevkond.ee
X-WR-CALDESC:Events for 
REFRESH-INTERVAL;VALUE=DURATION:PT1H
X-Robots-Tag:noindex
X-PUBLISHED-TTL:PT1H
BEGIN:VTIMEZONE
TZID:Europe/Tallinn
BEGIN:DAYLIGHT
TZOFFSETFROM:+0200
TZOFFSETTO:+0300
TZNAME:EEST
DTSTART:20240331T010000
END:DAYLIGHT
BEGIN:STANDARD
TZOFFSETFROM:+0300
TZOFFSETTO:+0200
TZNAME:EET
DTSTART:20241027T010000
END:STANDARD
BEGIN:DAYLIGHT
TZOFFSETFROM:+0200
TZOFFSETTO:+0300
TZNAME:EEST
DTSTART:20250330T010000
END:DAYLIGHT
BEGIN:STANDARD
TZOFFSETFROM:+0300
TZOFFSETTO:+0200
TZNAME:EET
DTSTART:20251026T010000
END:STANDARD
BEGIN:DAYLIGHT
TZOFFSETFROM:+0200
TZOFFSETTO:+0300
TZNAME:EEST
DTSTART:20260329T010000
END:DAYLIGHT
BEGIN:STANDARD
TZOFFSETFROM:+0300
TZOFFSETTO:+0200
TZNAME:EET
DTSTART:20261025T010000
END:STANDARD
END:VTIMEZONE
BEGIN:VEVENT
DTSTART;TZID=Europe/Tallinn:20250328T000000
DTEND;TZID=Europe/Tallinn:20250328T235959
DTSTAMP:20260422T154924
CREATED:20250311T183610Z
LAST-MODIFIED:20250311T183621Z
UID:1967-1743120000-1743206399@keilamalevkond.ee
SUMMARY:Scoutsrännak 2025
DESCRIPTION:Scoutspataljoni taasloomisele (29. märts 2001.a) pühendatud „Scoutsrännak 2025” toimub tänavu juba kahekümne teist korda. Rännaku eesmärkideks on (lisaks pataljoni taasloomise aastapäeva tähistamisele): hoida alal traditsioone\, tugevdada jõustruktuuride ühtekuuluvust\, anda võimalus tsiviilisikutele tutvuda militaar maailmaga ja – kuigi öeldakse\, et tähtis on osavõtt\, mitte võit – selgitada välja ka paremusjärjestus.\n30-kilomeetriline Scoutsrännaku rada kulgeb tänavu pisut muudetud marsruudil\, pakkudes iga-aastastele osalejatele vaheldust ja uustulijatele võimalust avastada kaitseväe keskpolügooni. Rännakust võivad osa võtta kõikide jõustruktuuride esindajad (Kaitsevägi\, Kaitseliit\, Politsei- ja Piirivalveamet\, Vanglateenistus\, Päästeamet\, Maksu- ja Tolliamet)\, välisesindajad ja tsiviilisikud. Osalejate vanus\, auaste ja sugu ei ole olulised. Rännakul valib iga võistleja oma tempo. Rännaku pikkuseks on umbes 30 km ja selle läbimiseks on aega kuni 8h. Rännakul osalemine on tasuta.\n\nÜrituse ajakavaScoutsrännak toimub 28.03.2025 ajavahemikul 10.00-18.00.Saabumine Läsna teeninduslinnakusse mitte hiljem kui 09.30.08.00 – 09.30 – saabumine Läsna linnaku territooriumile\, kohaloleku kontroll ja seljakoti kaalumine;10.00 – ühisstart;10.00 – 18.00 – jalgsirännak „Scoutsrännak 2025“ marsruudil;13.00 – 18.00 – finiš ja seljakottide kaalumine\, autasustamine\, toitlustamine.\n\n\nRegistreerimine1. Otselink registreerimisvormile: www.mil.ee/registreerimine;2. Registreerimisvormini jõuab ka Scoutsrännaku alamlehelt (või lühilingiga: www.mil.ee/scoutsrannak). E-mailile palume märkida eesnimi\, perekonnanimi ning organisatsioon\, samuti ka mis võistluskategoorias plaanite osaleda. Rännakul osalejate arv on piiratud 1700 osalejaga. Info osalejate piirarvu täitumisest antakse kodulehel (scouts.mil.ee) teada. Juhul kui osalejate piirarv ei täitu on registreerimise viimaseks päevaks 21.03.2025.\nLisa: \nhttps://www.facebook.com/events/967780862006494 \nhttps://mil.ee/wp-content/uploads/2025/02/Scoutsrannak-2025-juhend.pdf 
URL:https://keilamalevkond.ee/event/scoutsrannak-2025/
END:VEVENT
END:VCALENDAR