BEGIN:VCALENDAR
VERSION:2.0
PRODID:-// - ECPv6.15.20//NONSGML v1.0//EN
CALSCALE:GREGORIAN
METHOD:PUBLISH
X-ORIGINAL-URL:https://keilamalevkond.ee
X-WR-CALDESC:Events for 
REFRESH-INTERVAL;VALUE=DURATION:PT1H
X-Robots-Tag:noindex
X-PUBLISHED-TTL:PT1H
BEGIN:VTIMEZONE
TZID:Europe/Tallinn
BEGIN:DAYLIGHT
TZOFFSETFROM:+0200
TZOFFSETTO:+0300
TZNAME:EEST
DTSTART:20240331T010000
END:DAYLIGHT
BEGIN:STANDARD
TZOFFSETFROM:+0300
TZOFFSETTO:+0200
TZNAME:EET
DTSTART:20241027T010000
END:STANDARD
BEGIN:DAYLIGHT
TZOFFSETFROM:+0200
TZOFFSETTO:+0300
TZNAME:EEST
DTSTART:20250330T010000
END:DAYLIGHT
BEGIN:STANDARD
TZOFFSETFROM:+0300
TZOFFSETTO:+0200
TZNAME:EET
DTSTART:20251026T010000
END:STANDARD
BEGIN:DAYLIGHT
TZOFFSETFROM:+0200
TZOFFSETTO:+0300
TZNAME:EEST
DTSTART:20260329T010000
END:DAYLIGHT
BEGIN:STANDARD
TZOFFSETFROM:+0300
TZOFFSETTO:+0200
TZNAME:EET
DTSTART:20261025T010000
END:STANDARD
END:VTIMEZONE
BEGIN:VEVENT
DTSTART;TZID=Europe/Tallinn:20250401T000000
DTEND;TZID=Europe/Tallinn:20250427T235959
DTSTAMP:20260422T135011
CREATED:20250403T061921Z
LAST-MODIFIED:20250403T062113Z
UID:2095-1743465600-1745798399@keilamalevkond.ee
SUMMARY:ANNAME AU! Actionboundi Sinilillematka rada Riisipere kandis
DESCRIPTION:01.04-27.04.2025 ootame kõiki suuri ja väikseid sõpru Sinilillematkale. Seekord saad ise valida\, kellega ja millal raja ette võtad. Algus ja lõpp on Riisipere jaamas- seega mugav osaleda ka nt rongiga tulijatele. Rada on läbitav ka vankri ja rattaga\, pikkus ca 6 km. Osalemiseks vajad laetud akuga telefoni ja Actionboundi rakendust. Täpsem info selles osas ka tulemas.Meil on taas palju toredaid sponsoreid\, keda tutvustame eraldi postituses. Kõikide allpool toodud tingimuste järgi osalenute vahel loosime tänu neile taas toredaid auhindu välja!Osalemistingimused:1. Tee annetus tiimi kohta alates 10€ Triin Verner kontole (paneme eraldi postitusse\, et oleks mugavam kopeerida) ja pane selgituseks oma tiimi nimi.2. Läbi Actionboundi Nissi Naiskodukaitse rada 01.04-27.04.2025 vahelisel ajal.\nAnnetused lähevad kõik selle Aasta Anname au kampaania raames veteranide vaimse tervise heaks. Täpsemalt saad lugeda: https://annameau.ee/\n\nÜrituse facbooki event SIIT\n\n\n\n-Tekst ürituse ametlikult facbooki lehelt.
URL:https://keilamalevkond.ee/event/anname-au-actionboundi-sinilillematka-rada-riisipere-kandis/
END:VEVENT
BEGIN:VEVENT
DTSTART;TZID=Europe/Tallinn:20250420T110000
DTEND;TZID=Europe/Tallinn:20250420T150000
DTSTAMP:20260422T135011
CREATED:20250311T184731Z
LAST-MODIFIED:20250403T060318Z
UID:1984-1745146800-1745161200@keilamalevkond.ee
SUMMARY:ANNAME AU! Matk Keilas
DESCRIPTION:Naiskodukaitse Keila II jaoskond kutsub matkale! \nStardime 20.04 kell 11.00 Harjumaa Muuseumi parklast. Raja pikkus on 8 km\, kestvusega 2\,5-3h. Tutvume Keila – Valingu piirkonnaga ja õpime maastikul toimetulekuks vajalikke oskuseid. Kõnnime rahulikus tempos\, kuid rada on läbitav ka rattaga. Sõltuvalt ilmast võib tee olla üsnagi mudane.Võta kaasa oma joogivesi\, soovi korral termosega soe jook ja veidi näksi. Samuti võta kaasa paar puhtaid sokke. Miks? – selgub rajal .Osalema on oodatud kõik huvilised ja osalus on tasuta. Kohapeal on võimalik sularaha eest soetada Veteranikuu Sinilille kampaania tooteid\, et annetada vigastatud veteranide ja nende lähedaste toetuseks.Matka juhivad Jane ja Aasa.Küsimuste korral pöördu julgesti! Kohtumiseni rajal! \nÜrituse facbooki event SIIT \n \n-Tekst ürituse ametlikult facbooki lehelt.
URL:https://keilamalevkond.ee/event/sinilillekuu-matk-keilas/
END:VEVENT
END:VCALENDAR