BEGIN:VCALENDAR
VERSION:2.0
PRODID:-// - ECPv6.15.20//NONSGML v1.0//EN
CALSCALE:GREGORIAN
METHOD:PUBLISH
X-ORIGINAL-URL:https://keilamalevkond.ee
X-WR-CALDESC:Events for 
REFRESH-INTERVAL;VALUE=DURATION:PT1H
X-Robots-Tag:noindex
X-PUBLISHED-TTL:PT1H
BEGIN:VTIMEZONE
TZID:Europe/Tallinn
BEGIN:DAYLIGHT
TZOFFSETFROM:+0200
TZOFFSETTO:+0300
TZNAME:EEST
DTSTART:20240331T010000
END:DAYLIGHT
BEGIN:STANDARD
TZOFFSETFROM:+0300
TZOFFSETTO:+0200
TZNAME:EET
DTSTART:20241027T010000
END:STANDARD
BEGIN:DAYLIGHT
TZOFFSETFROM:+0200
TZOFFSETTO:+0300
TZNAME:EEST
DTSTART:20250330T010000
END:DAYLIGHT
BEGIN:STANDARD
TZOFFSETFROM:+0300
TZOFFSETTO:+0200
TZNAME:EET
DTSTART:20251026T010000
END:STANDARD
BEGIN:DAYLIGHT
TZOFFSETFROM:+0200
TZOFFSETTO:+0300
TZNAME:EEST
DTSTART:20260329T010000
END:DAYLIGHT
BEGIN:STANDARD
TZOFFSETFROM:+0300
TZOFFSETTO:+0200
TZNAME:EET
DTSTART:20261025T010000
END:STANDARD
END:VTIMEZONE
BEGIN:VEVENT
DTSTART;TZID=Europe/Tallinn:20251003T000000
DTEND;TZID=Europe/Tallinn:20251005T235959
DTSTAMP:20260422T005136
CREATED:20250808T201849Z
LAST-MODIFIED:20250808T201849Z
UID:2492-1759449600-1759708799@keilamalevkond.ee
SUMMARY:KILP JA MÕÕK
DESCRIPTION:
URL:https://keilamalevkond.ee/event/kilp-ja-mook/
END:VEVENT
BEGIN:VEVENT
DTSTART;TZID=Europe/Tallinn:20251010T000000
DTEND;TZID=Europe/Tallinn:20251012T235959
DTSTAMP:20260422T005136
CREATED:20250916T120428Z
LAST-MODIFIED:20250916T120445Z
UID:2680-1760054400-1760313599@keilamalevkond.ee
SUMMARY:Luureretk HARJU PIMEDAD ÖÖD
DESCRIPTION:REGISTREERI OMA VÕISTKOND hiljemalt 21.sept.- https://docs.google.com/forms/d/e/1FAIpQLSe0_xe7G_DSiZW3yyLrsfoADJIN9tPWu4xmbM-JTusOGaneaQ/viewform
URL:https://keilamalevkond.ee/event/luureretk-harju-pimedad-ood/
END:VEVENT
BEGIN:VEVENT
DTSTART;TZID=Europe/Tallinn:20251013T200000
DTEND;TZID=Europe/Tallinn:20251013T210000
DTSTAMP:20260422T005136
CREATED:20250619T205931Z
LAST-MODIFIED:20250619T205931Z
UID:2313-1760385600-1760389200@keilamalevkond.ee
SUMMARY:Malevkonna teapeäev
DESCRIPTION:Kõigile liikmetele! \nRohkem infot malevkonna facebooki sisegrupist\, meilist või rühmaülemalt!
URL:https://keilamalevkond.ee/event/malevkonna-teapeaev/
END:VEVENT
BEGIN:VEVENT
DTSTART;TZID=Europe/Tallinn:20251018T100000
DTEND;TZID=Europe/Tallinn:20251018T170000
DTSTAMP:20260422T005136
CREATED:20250808T201928Z
LAST-MODIFIED:20250925T111543Z
UID:2494-1760781600-1760806800@keilamalevkond.ee
SUMMARY:Laskepäev (kogu malevkond)
DESCRIPTION:Malevkonna laskepäev toimub vaid Keila malevkonna liikmetele! Rohkem infot saad meie facebooki sisegrupist või rühmaliikmete käest!
URL:https://keilamalevkond.ee/event/laskepaev-kogu-malevkond-2/
END:VEVENT
BEGIN:VEVENT
DTSTART;TZID=Europe/Tallinn:20251024T000000
DTEND;TZID=Europe/Tallinn:20251026T235959
DTSTAMP:20260422T005136
CREATED:20250808T202007Z
LAST-MODIFIED:20250808T202007Z
UID:2496-1761264000-1761523199@keilamalevkond.ee
SUMMARY:VÜT2 Lahinglaskmised
DESCRIPTION:
URL:https://keilamalevkond.ee/event/vut2-lahinglaskmised/
END:VEVENT
BEGIN:VEVENT
DTSTART;TZID=Europe/Tallinn:20251031T000000
DTEND;TZID=Europe/Tallinn:20251102T235959
DTSTAMP:20260422T005136
CREATED:20250808T202103Z
LAST-MODIFIED:20250808T202103Z
UID:2498-1761868800-1762127999@keilamalevkond.ee
SUMMARY:VÜT2 Lõpuharjutus
DESCRIPTION:
URL:https://keilamalevkond.ee/event/vut2-lopuharjutus/
END:VEVENT
END:VCALENDAR